BEGIN:VCALENDAR
VERSION:2.0
PRODID:Imitheme.com 
BEGIN:VEVENT
UID:20260425T182436463187040
DTSTAMP;TZID=UTC:20260425T182436
DTSTART;TZID=UTC:20261215T182400
DTEND;TZID=UTC:20261215T182400
SUMMARY:Gemeindevertretung / Wegen COVID-19 ABGESAGT!
LOCATION:
DESCRIPTION:&nbsp\; Sitzung der Gemeindevertretung Wegen COVID-19 ABGESAGT! &nbsp\;
END:VEVENT
END:VCALENDAR
