BEGIN:VCALENDAR
VERSION:2.0
PRODID:Imitheme.com 
BEGIN:VEVENT
UID:20260425T182441456684419
DTSTAMP;TZID=UTC:20260425T182441
DTSTART;TZID=UTC:20261215T182400
DTEND;TZID=UTC:20261215T182400
SUMMARY:Interreligiöses Vernetzungstreffen\, Synagogenbesuch - verschoben
LOCATION:
DESCRIPTION:&nbsp\; Die MA17 Süd für Integration und Diversität ladet Sie herzlich zum Interreligiösen Vernetzungstreffen ein. Diesmal treffen wir einander in der Synagoge in der Seitenstettengasse 4\, 1010 Wien Auf neuen Termin verschoben.
END:VEVENT
END:VCALENDAR
