BEGIN:VCALENDAR
VERSION:2.0
PRODID:Imitheme.com 
BEGIN:VEVENT
UID:20260425T182436355046710
DTSTAMP;TZID=UTC:20260425T182436
DTSTART;TZID=UTC:20261215T182400
DTEND;TZID=UTC:20261215T182400
SUMMARY:Interreligiöses Vernetzungstreffen / Wegen COVID-19 ABGESAGT!
LOCATION:
DESCRIPTION:&nbsp\; Die MA17 Süd für Integration und Diversität ladet Sie herzlich zum Interreligiösen Vernetzungstreffen ein. Wegen COVID-19 ABGESAGT! &nbsp\;
END:VEVENT
END:VCALENDAR
