BEGIN:VCALENDAR
VERSION:2.0
PRODID:Imitheme.com 
BEGIN:VEVENT
UID:20260425T182356968108493
DTSTAMP;TZID=UTC:20260425T182356
DTSTART;TZID=UTC:20261215T182300
DTEND;TZID=UTC:20261215T182300
SUMMARY:Andacht mit Pfr. Johannes Wittich
LOCATION:
DESCRIPTION:  Andacht\, Gebet und seelsorgerliches Gespräch mit Pfr. Johannes Wittich. GastgeberIn\: M. Rohrmoser OrganistIn\: Kein Organist Gemeindekaffee\: Kein Gemeindekaffee &nbsp\;
END:VEVENT
END:VCALENDAR
