BEGIN:VCALENDAR
VERSION:2.0
PRODID:Imitheme.com 
BEGIN:VEVENT
UID:20260425T182345605786358
DTSTAMP;TZID=UTC:20260425T182345
DTSTART;TZID=UTC:20261215T182300
DTEND;TZID=UTC:20261215T182300
SUMMARY:Ungarische Bibelstunde
LOCATION:
DESCRIPTION:Wir treffen uns mit Pfr. Károly Nagy\, immer Dienstags in unserem Gemeindesaal.
END:VEVENT
END:VCALENDAR
