BEGIN:VCALENDAR
VERSION:2.0
PRODID:Imitheme.com 
BEGIN:VEVENT
UID:20260425T182310371744993
DTSTAMP;TZID=UTC:20260425T182310
DTSTART;TZID=UTC:20261215T182300
DTEND;TZID=UTC:20261215T182300
SUMMARY:Penguin’s Club / Wegen COVID-19 ABGESAGT!
LOCATION:
DESCRIPTION:Penguin’s Club\: Thema\: Pinguine können tun\, was sie wollen\, oder…? Anschließend wird das „Penguin‘s Club T-Shirt“ gebatikt. Wegen COVID-19 ABGESAGT! &nbsp\;
END:VEVENT
END:VCALENDAR
