BEGIN:VCALENDAR
VERSION:2.0
PRODID:Imitheme.com 
BEGIN:VEVENT
UID:20260425T1823461401727120
DTSTAMP;TZID=UTC:20260425T182346
DTSTART;TZID=UTC:20261215T182300
DTEND;TZID=UTC:20261215T182300
SUMMARY:Penguin’s Club
LOCATION:
DESCRIPTION:Penguin’s Club &nbsp\;
END:VEVENT
END:VCALENDAR
