BEGIN:VCALENDAR
VERSION:2.0
PRODID:Imitheme.com 
BEGIN:VEVENT
UID:20260425T182345847140522
DTSTAMP;TZID=UTC:20260425T182345
DTSTART;TZID=UTC:20261215T182300
DTEND;TZID=UTC:20261215T182300
SUMMARY:Orchesterkonzert zum Adventbeginn\, Kammerorchester des Orchesterverein Wien
LOCATION:
DESCRIPTION:Kammerorchester des Orchesterverein Wien Orchesterkonzert zum Adventbeginn Werke von J. Haydn\, G. Mahler\, R. Wagner\, W.A. Mozart Dirigentin\: Michelle Mi-Jung Kim
END:VEVENT
END:VCALENDAR
