BEGIN:VCALENDAR
VERSION:2.0
PRODID:Imitheme.com 
BEGIN:VEVENT
UID:20260425T1830511359403956
DTSTAMP;TZID=UTC:20260425T183051
DTSTART;TZID=UTC:20261215T183000
DTEND;TZID=UTC:20261215T183000
SUMMARY:Besuchskreis / Wegen COVID-19 ABGESAGT!
LOCATION:
DESCRIPTION:InteressentInnen mögen sich bitte zwecks vorheriger Rücksprache mit Ursula Kratky über die Pfarrkanzlei in Verbindung setzen. Wegen COVID-19 ABGESAGT! &nbsp\;
END:VEVENT
END:VCALENDAR
