BEGIN:VCALENDAR
VERSION:2.0
PRODID:Imitheme.com 
BEGIN:VEVENT
UID:20260425T1823561820969487
DTSTAMP;TZID=UTC:20260425T182356
DTSTART;TZID=UTC:20261215T182300
DTEND;TZID=UTC:20261215T182300
SUMMARY:Bücherflohmarkt
LOCATION:
DESCRIPTION:Bücherflohmarkt\: Freitag\, 8. November\, 9\:00 bis 17\:00 Uhr und Samstag\, 9. November 10\:00 bis 15\:00 Uhr &nbsp\;
END:VEVENT
END:VCALENDAR
