BEGIN:VCALENDAR
VERSION:2.0
PRODID:Imitheme.com 
BEGIN:VEVENT
UID:20260425T1831121611779934
DTSTAMP;TZID=UTC:20260425T183112
DTSTART;TZID=UTC:20261215T183100
DTEND;TZID=UTC:20261215T183100
SUMMARY:Psalmen in Judentum und Christentum
LOCATION:
DESCRIPTION:Psalmen in Judentum und Christentum\: Impuls und Gespräch - eine Veranstaltung in Kooperation der Jüdisch Liberalen Gemeinde Or Chadasch\, der Pfarre St. Nepomuk und dem Koordinierungsausschuss für christlich-jüdische Zusammenarbeit. *) Bitte einen Lichtbildausweis für die Sicherheitskontrolle mitnehmen. https\:///www.christenundjuden.org/
END:VEVENT
END:VCALENDAR
