BEGIN:VCALENDAR
VERSION:2.0
PRODID:Imitheme.com 
BEGIN:VEVENT
UID:20260425T183336642875531
DTSTAMP;TZID=UTC:20260425T183336
DTSTART;TZID=UTC:20261215T183300
DTEND;TZID=UTC:20261215T183300
SUMMARY:Gottesdienst mit Gerti Rohrmoser
LOCATION:
DESCRIPTION:mit Gerti Rohrmoser &nbsp\;
END:VEVENT
END:VCALENDAR
