BEGIN:VCALENDAR
VERSION:2.0
PRODID:Imitheme.com 
BEGIN:VEVENT
UID:20260425T1832291105164208
DTSTAMP;TZID=UTC:20260425T183229
DTSTART;TZID=UTC:20261215T183200
DTEND;TZID=UTC:20261215T183200
SUMMARY:Andacht mit Pfr. Johannes Wittich
LOCATION:
DESCRIPTION:Andacht\, Gebet und seelsorgerliches Gespräch mit Pfr. Johannes Wittich. GastgeberIn\: F. Radner OrganistIn\: M. Seidl Gemeindekaffee\: Kein Gemeindekaffee &nbsp\;
END:VEVENT
END:VCALENDAR
