BEGIN:VCALENDAR
VERSION:2.0
PRODID:Imitheme.com 
BEGIN:VEVENT
UID:20260425T1824411881337808
DTSTAMP;TZID=UTC:20260425T182441
DTSTART;TZID=UTC:20261215T182400
DTEND;TZID=UTC:20261215T182400
SUMMARY:Chorprobe
LOCATION:
DESCRIPTION:
END:VEVENT
END:VCALENDAR
