BEGIN:VCALENDAR
VERSION:2.0
PRODID:Imitheme.com 
BEGIN:VEVENT
UID:20260425T1823082037889206
DTSTAMP;TZID=UTC:20260425T182308
DTSTART;TZID=UTC:20261215T182300
DTEND;TZID=UTC:20261215T182300
SUMMARY:Chorprobe
LOCATION:
DESCRIPTION:
END:VEVENT
END:VCALENDAR
