BEGIN:VCALENDAR
VERSION:2.0
PRODID:Imitheme.com 
BEGIN:VEVENT
UID:20260425T1832291048677862
DTSTAMP;TZID=UTC:20260425T183229
DTSTART;TZID=UTC:20261215T183200
DTEND;TZID=UTC:20261215T183200
SUMMARY:Gottesdienst mit Pfr. Johannes Wittich\, Amtseinführung von Horst Rebbe
LOCATION:
DESCRIPTION:mit Pfr. Johannes Wittich\, Amtseinführung von Horst Rebbe &nbsp\;
END:VEVENT
END:VCALENDAR
