BEGIN:VCALENDAR
VERSION:2.0
PRODID:Imitheme.com 
BEGIN:VEVENT
UID:20260425T18311262859214
DTSTAMP;TZID=UTC:20260425T183112
DTSTART;TZID=UTC:20261215T183100
DTEND;TZID=UTC:20261215T183100
SUMMARY:Presbyteriumssitzung
LOCATION:
DESCRIPTION:Presbyteriumssitzung &nbsp\;
END:VEVENT
END:VCALENDAR
