BEGIN:VCALENDAR
VERSION:2.0
PRODID:Imitheme.com 
BEGIN:VEVENT
UID:20260425T184121298197393
DTSTAMP;TZID=UTC:20260425T184121
DTSTART;TZID=UTC:20261215T184100
DTEND;TZID=UTC:20261215T184100
SUMMARY:Penguin’s Club\: Weihnachtskekse backen und Film schauen
LOCATION:
DESCRIPTION:Weihnachtskekse backen und Film schauen &nbsp\;
END:VEVENT
END:VCALENDAR
