BEGIN:VCALENDAR
VERSION:2.0
PRODID:Imitheme.com 
BEGIN:VEVENT
UID:20260425T1832131501321731
DTSTAMP;TZID=UTC:20260425T183213
DTSTART;TZID=UTC:20261215T183200
DTEND;TZID=UTC:20261215T183200
SUMMARY:Adventkranzbinden
LOCATION:
DESCRIPTION:  Adventkranzbinden &nbsp\; &nbsp\; &nbsp\; Sie können Ihren eigenen Adventkranz mit uns binden.Für Reisig wird gesorgt\, bitte Dekorationsmaterial und Kerzen selbst mitbringen. Anmeldungen in der Pfarrkanzlei. &nbsp\;
END:VEVENT
END:VCALENDAR
