BEGIN:VCALENDAR
VERSION:2.0
PRODID:Imitheme.com 
BEGIN:VEVENT
UID:20260425T1843501960015875
DTSTAMP;TZID=UTC:20260425T184350
DTSTART;TZID=UTC:20261215T184300
DTEND;TZID=UTC:20261215T184300
SUMMARY:Penguin’s Club\: Die Ewigkeit und Ihre Toten
LOCATION:
DESCRIPTION:Thema\: Die Ewigkeit und Ihre Toten anschließend Palatschinken-Essen &nbsp\;
END:VEVENT
END:VCALENDAR
