BEGIN:VCALENDAR
VERSION:2.0
PRODID:Imitheme.com 
BEGIN:VEVENT
UID:20260425T184427787580605
DTSTAMP;TZID=UTC:20260425T184427
DTSTART;TZID=UTC:20261215T184400
DTEND;TZID=UTC:20261215T184400
SUMMARY:Penguin’s Club\: Nachtführung durch den Tiergarten Schönbrunn
LOCATION:
DESCRIPTION:Nachtführung durch den Tiergarten Schönbrunn &nbsp\;
END:VEVENT
END:VCALENDAR
