BEGIN:VCALENDAR
VERSION:2.0
PRODID:Imitheme.com 
BEGIN:VEVENT
UID:20260425T1842541667823549
DTSTAMP;TZID=UTC:20260425T184254
DTSTART;TZID=UTC:20261215T184200
DTEND;TZID=UTC:20261215T184200
SUMMARY:Gemeinsamer KonfirmandInnen-Gottesdienst
LOCATION:
DESCRIPTION:Gemeinsamer KonfirmandInnen-Gottesdienst in der Zwinglikirche Wien-West mit unserem Besuch aus Bregenz und gemeinsamem Mittagessen.
END:VEVENT
END:VCALENDAR
