BEGIN:VCALENDAR
VERSION:2.0
PRODID:Imitheme.com 
BEGIN:VEVENT
UID:20260425T1702071876276709
DTSTAMP;TZID=UTC:20260425T170207
DTSTART;TZID=UTC:20261215T170200
DTEND;TZID=UTC:20261215T170200
SUMMARY:Gottesdienst mit Pfr.i.R. Johann Ulreich
LOCATION:
DESCRIPTION:Mit Pfr.i.R. Johann Ulreich &nbsp\;
END:VEVENT
END:VCALENDAR
