BEGIN:VCALENDAR
VERSION:2.0
PRODID:Imitheme.com 
BEGIN:VEVENT
UID:20260425T1652241081489189
DTSTAMP;TZID=UTC:20260425T165224
DTSTART;TZID=UTC:20261215T165200
DTEND;TZID=UTC:20261215T165200
SUMMARY:Gottesdienst mit Pfrin. Naemi Schmit-Stutz
LOCATION:
DESCRIPTION:mit Pfrin. Naemi Schmit-Stutz &nbsp\;
END:VEVENT
END:VCALENDAR
