BEGIN:VCALENDAR
VERSION:2.0
PRODID:Imitheme.com 
BEGIN:VEVENT
UID:20260425T165207875073724
DTSTAMP;TZID=UTC:20260425T165207
DTSTART;TZID=UTC:20261215T165200
DTEND;TZID=UTC:20261215T165200
SUMMARY:Musikalischer Gottesdienst mit Ulrich Körtner
LOCATION:
DESCRIPTION:mit Ulrich Körtner\, musikalischer Gottesdienst mit Familie Ronez-Kubitschek &nbsp\;
END:VEVENT
END:VCALENDAR
