BEGIN:VCALENDAR
VERSION:2.0
PRODID:Imitheme.com 
BEGIN:VEVENT
UID:20260425T1703231080765408
DTSTAMP;TZID=UTC:20260425T170323
DTSTART;TZID=UTC:20261215T170300
DTEND;TZID=UTC:20261215T170300
SUMMARY:Gottesdienst zum 1. Advent mit Ulrike Wittich
LOCATION:
DESCRIPTION:mit Ulrike Wittich\,  Gottesdienst zum 1. Advent mit anschließendem Weihnachtsbasteln &nbsp\;
END:VEVENT
END:VCALENDAR
