BEGIN:VCALENDAR
VERSION:2.0
PRODID:Imitheme.com 
BEGIN:VEVENT
UID:20260425T165222872950651
DTSTAMP;TZID=UTC:20260425T165222
DTSTART;TZID=UTC:20261215T165200
DTEND;TZID=UTC:20261215T165200
SUMMARY:Kirchenstrukturreform
LOCATION:
DESCRIPTION:Kirchenstrukturreform &nbsp\;
END:VEVENT
END:VCALENDAR
