BEGIN:VCALENDAR
VERSION:2.0
PRODID:Imitheme.com 
BEGIN:VEVENT
UID:20260425T170322801769531
DTSTAMP;TZID=UTC:20260425T170322
DTSTART;TZID=UTC:20261215T170300
DTEND;TZID=UTC:20261215T170300
SUMMARY:Musikalischer Gottesdienst mit Pfr. Johannes Wittich\, Abendmahl\, Kigo und Krago
LOCATION:
DESCRIPTION:mit Pfr. Johannes Wittich\, mit Abendmahl\, Musik\, Kigo und Krago &nbsp\;
END:VEVENT
END:VCALENDAR
