BEGIN:VCALENDAR
VERSION:2.0
PRODID:Imitheme.com 
BEGIN:VEVENT
UID:20260425T1702381649659007
DTSTAMP;TZID=UTC:20260425T170238
DTSTART;TZID=UTC:20261215T170200
DTEND;TZID=UTC:20261215T170200
SUMMARY:Presbyteriumssitzung
LOCATION:
DESCRIPTION:Presbyteriumssitzung &nbsp\;
END:VEVENT
END:VCALENDAR
