BEGIN:VCALENDAR
VERSION:2.0
PRODID:Imitheme.com 
BEGIN:VEVENT
UID:20260425T1651221395276057
DTSTAMP;TZID=UTC:20260425T165122
DTSTART;TZID=UTC:20261215T165100
DTEND;TZID=UTC:20261215T165100
SUMMARY:Redaktionssitzung Gemeindebote
LOCATION:
DESCRIPTION:Redaktionssitzung Gemeindebote &nbsp\;
END:VEVENT
END:VCALENDAR
