BEGIN:VCALENDAR
VERSION:2.0
PRODID:Imitheme.com 
BEGIN:VEVENT
UID:20260425T165121421385171
DTSTAMP;TZID=UTC:20260425T165121
DTSTART;TZID=UTC:20261215T165100
DTEND;TZID=UTC:20261215T165100
SUMMARY:Buchpräsentation\, \"Si vis pacem\, para mentem\"
LOCATION:
DESCRIPTION:BUCHPRÄSENTATION THOMAS HENNEFELD (HG.) \"Si vis pacem\, para mentem\"  Charles Alphonse Witz-Oberlin als pazifistischer Vordenker mit Landessuperintendent Thomas Hennefeld und Militärsuperintendent Karl-Reinhart Trauner. &nbsp\;
END:VEVENT
END:VCALENDAR
