BEGIN:VCALENDAR
VERSION:2.0
PRODID:Imitheme.com 
BEGIN:VEVENT
UID:20260425T170207818590672
DTSTAMP;TZID=UTC:20260425T170207
DTSTART;TZID=UTC:20261215T170200
DTEND;TZID=UTC:20261215T170200
SUMMARY:Administration während Abwesenheit von Pfarrer Johannes Wittich
LOCATION:
DESCRIPTION:Besprechung zwischen Harald Kluge\, Johannes Wittich\, Robert Colditz und Franz Radner über die Administration im Zeitraum der Abwesenheit von Pfr. Johannes Wittich vom 15. Oktober 2019 bis 9. Februar 2020 durch Pfr. Harald Kluge. &nbsp\;
END:VEVENT
END:VCALENDAR
