BEGIN:VCALENDAR
VERSION:2.0
PRODID:Imitheme.com 
BEGIN:VEVENT
UID:20260425T1703221458303252
DTSTAMP;TZID=UTC:20260425T170322
DTSTART;TZID=UTC:20261215T170300
DTEND;TZID=UTC:20261215T170300
SUMMARY:Aktive Senioren – Besuch des Kriminalmuseums
LOCATION:
DESCRIPTION:Aktive Senioren – Besuch des Kriminalmuseums &nbsp\;
END:VEVENT
END:VCALENDAR
