BEGIN:VCALENDAR
VERSION:2.0
PRODID:Imitheme.com 
BEGIN:VEVENT
UID:20260425T170237951441849
DTSTAMP;TZID=UTC:20260425T170237
DTSTART;TZID=UTC:20261215T170200
DTEND;TZID=UTC:20261215T170200
SUMMARY:Aktive Senioren – „Reise durch Griechenland“\, mit Alfred Klappert
LOCATION:
DESCRIPTION:Aktive Senioren – „Reise durch Griechenland“\, mit Alfred Klappert &nbsp\;
END:VEVENT
END:VCALENDAR
