BEGIN:VCALENDAR
VERSION:2.0
PRODID:Imitheme.com 
BEGIN:VEVENT
UID:20260425T1702361131028235
DTSTAMP;TZID=UTC:20260425T170236
DTSTART;TZID=UTC:20261215T170200
DTEND;TZID=UTC:20261215T170200
SUMMARY:Alternatives Glaubensgespräch – Zweifeln und Glauben
LOCATION:
DESCRIPTION:Alternatives Glaubensgespräch – Zweifeln und Glauben &nbsp\;
END:VEVENT
END:VCALENDAR
