BEGIN:VCALENDAR
VERSION:2.0
PRODID:Imitheme.com 
BEGIN:VEVENT
UID:20260425T165207662410949
DTSTAMP;TZID=UTC:20260425T165207
DTSTART;TZID=UTC:20261215T165200
DTEND;TZID=UTC:20261215T165200
SUMMARY:Sponsoring
LOCATION:
DESCRIPTION:Kick Off Treffen der Gruppe Sponsoring Wir wollen · uns besser kennenlernen · die Möglichkeiten für ein Sponsoring beraten · die Verbindung zum Presbyterium besprechen und · die Aufgabenverteilung festlegen Inge Schintlmeister
END:VEVENT
END:VCALENDAR
