BEGIN:VCALENDAR
VERSION:2.0
PRODID:Imitheme.com 
BEGIN:VEVENT
UID:20260425T170206834929794
DTSTAMP;TZID=UTC:20260425T170206
DTSTART;TZID=UTC:20261215T170200
DTEND;TZID=UTC:20261215T170200
SUMMARY:Gottesdienst mit Pfr. Thomas Hennefeld
LOCATION:
DESCRIPTION:mit Pfr. Thomas Hennefeld &nbsp\;
END:VEVENT
END:VCALENDAR
