BEGIN:VCALENDAR
VERSION:2.0
PRODID:Imitheme.com 
BEGIN:VEVENT
UID:20260425T170140664575515
DTSTAMP;TZID=UTC:20260425T170140
DTSTART;TZID=UTC:20261215T170100
DTEND;TZID=UTC:20261215T170100
SUMMARY:Gottesdienst mit Gerti Rohrmoser
LOCATION:
DESCRIPTION:mit Gerti Rohrmoser &nbsp\;
END:VEVENT
END:VCALENDAR
