BEGIN:VCALENDAR
VERSION:2.0
PRODID:Imitheme.com 
BEGIN:VEVENT
UID:20260425T170205872175534
DTSTAMP;TZID=UTC:20260425T170205
DTSTART;TZID=UTC:20261215T170200
DTEND;TZID=UTC:20261215T170200
SUMMARY:Gottesdienst mit Pfr. Johannes Wittich
LOCATION:
DESCRIPTION:mit Pfr. Johannes Wittich &nbsp\;
END:VEVENT
END:VCALENDAR
