BEGIN:VCALENDAR
VERSION:2.0
PRODID:Imitheme.com 
BEGIN:VEVENT
UID:20260425T152414550191896
DTSTAMP;TZID=UTC:20260425T152414
DTSTART;TZID=UTC:20261215T152400
DTEND;TZID=UTC:20261215T152400
SUMMARY:Presbyteriumssitzung
LOCATION:
DESCRIPTION:Presbyteriumssitzung &nbsp\;
END:VEVENT
END:VCALENDAR
