BEGIN:VCALENDAR
VERSION:2.0
PRODID:Imitheme.com 
BEGIN:VEVENT
UID:20260425T1533311401375082
DTSTAMP;TZID=UTC:20260425T153331
DTSTART;TZID=UTC:20261215T153300
DTEND;TZID=UTC:20261215T153300
SUMMARY:Gottesdienst mit Gerti Rohrmoser
LOCATION:
DESCRIPTION:mit Gerti Rohrmoser &nbsp\;
END:VEVENT
END:VCALENDAR
