BEGIN:VCALENDAR
VERSION:2.0
PRODID:Imitheme.com 
BEGIN:VEVENT
UID:20260425T152353567498464
DTSTAMP;TZID=UTC:20260425T152353
DTSTART;TZID=UTC:20261215T152300
DTEND;TZID=UTC:20261215T152300
SUMMARY:Presbyteriumssitzung
LOCATION:
DESCRIPTION:Presbyteriumssitzung
END:VEVENT
END:VCALENDAR
