BEGIN:VCALENDAR
VERSION:2.0
PRODID:Imitheme.com 
BEGIN:VEVENT
UID:20260425T153845691855975
DTSTAMP;TZID=UTC:20260425T153845
DTSTART;TZID=UTC:20261215T153800
DTEND;TZID=UTC:20261215T153800
SUMMARY:Abschied von Bischof Bünker
LOCATION:
DESCRIPTION:Gottesdienst in der Lutherischen Stadtkirche Abschied von Hon.-Prof. Dr. Dr. h.c. Michael Bünker\, Bischof der Evangelischen Kirche A.B. in Österreich
END:VEVENT
END:VCALENDAR
