BEGIN:VCALENDAR
VERSION:2.0
PRODID:Imitheme.com 
BEGIN:VEVENT
UID:20260425T1512101501715665
DTSTAMP;TZID=UTC:20260425T151210
DTSTART;TZID=UTC:20261215T151200
DTEND;TZID=UTC:20261215T151200
SUMMARY:Gemeindeforum
LOCATION:
DESCRIPTION:Was ist ein Gemeindeforum? Dieses dient der Diskussion grundsätzlicher Fragen der Entwicklung einer Pfarrgemeinde. Alle wahlberechtigten Gemeindemitglieder sind dazu eingeladen und stimmberechtigt. Auf Einladung des Presbyteriums nimmt auch Landessuperintendent Thomas Hennefeld teil\, er hat sein Kommen zugesagt.
END:VEVENT
END:VCALENDAR
