BEGIN:VCALENDAR
VERSION:2.0
PRODID:Imitheme.com 
BEGIN:VEVENT
UID:20260425T153331649624286
DTSTAMP;TZID=UTC:20260425T153331
DTSTART;TZID=UTC:20261215T153300
DTEND;TZID=UTC:20261215T153300
SUMMARY:Konzert mit EGC und Aufwind
LOCATION:
DESCRIPTION:&nbsp\; ... der \"Erlöserkirche Gospel Choir\" (Wien) und der bayerische \"Chor Aufwind\" vereinen sich ... geistliche Kompositionen von Martin A. Seidl begegnen der \"Gospel Mass\" von Robert Ray ... zeitgenössische Musik ereignet sich in der ältesten Kirche Wiens Ausführende\: Chor Aufwind Erlöserkirche Gospel Choir Martin Feichtinger\, E-Bass Helfried Saminger\, Drums Martin A....
END:VEVENT
END:VCALENDAR
