BEGIN:VCALENDAR
VERSION:2.0
PRODID:Imitheme.com 
BEGIN:VEVENT
UID:20260425T1652231174360188
DTSTAMP;TZID=UTC:20260425T165223
DTSTART;TZID=UTC:20261215T165200
DTEND;TZID=UTC:20261215T165200
SUMMARY:Gottesdienst mit Pfrin. Barbara Wedam
LOCATION:
DESCRIPTION:mit Pfrin. Barbara Wedam
END:VEVENT
END:VCALENDAR
