BEGIN:VCALENDAR
VERSION:2.0
PRODID:Imitheme.com 
BEGIN:VEVENT
UID:20260425T2005102010880564
DTSTAMP;TZID=UTC:20260425T200510
DTSTART;TZID=UTC:20261215T200500
DTEND;TZID=UTC:20261215T200500
SUMMARY:Feier zum Tag des Judentums
LOCATION:
DESCRIPTION:&nbsp\; &nbsp\; Feier zum Tag des Judentums Die Kirchen in Österreich feiern am 17. Jänner den \"Tag des Judentums\". Das Christentum ist in seinem Selbstverständnis wesentlich mit dem Judentum verbunden\; damit dies den Christen immer deutlicher bewusst wird\, hat der Ökumenische Rat der Kirchen in Österreich (ÖRKÖ) im Jahr 2000...
END:VEVENT
END:VCALENDAR
