BEGIN:VCALENDAR
VERSION:2.0
PRODID:Imitheme.com 
BEGIN:VEVENT
UID:20260425T164231963063620
DTSTAMP;TZID=UTC:20260425T164231
DTSTART;TZID=UTC:20261215T164200
DTEND;TZID=UTC:20261215T164200
SUMMARY:Chorprobe
LOCATION:
DESCRIPTION:
END:VEVENT
END:VCALENDAR
