BEGIN:VCALENDAR
VERSION:2.0
PRODID:Imitheme.com 
BEGIN:VEVENT
UID:20260422T1227261067558905
DTSTAMP;TZID=UTC:20260422T122726
DTSTART;TZID=UTC:20261116T122700
DTEND;TZID=UTC:20261116T122700
SUMMARY:Prüfung & Kontrolle der Einhaltung der DSGVO Verordnung
LOCATION:
DESCRIPTION:Prüfung &amp\; Kontrolle der Einhaltung der DSGVO Verordnung durch Uwe Warm.
END:VEVENT
END:VCALENDAR
