BEGIN:VCALENDAR
VERSION:2.0
PRODID:Imitheme.com 
BEGIN:VEVENT
UID:20260422T123801869290804
DTSTAMP;TZID=UTC:20260422T123801
DTSTART;TZID=UTC:20261116T123800
DTEND;TZID=UTC:20261116T123800
SUMMARY:Besuchskreis / Wegen Lockdown abgesagt
LOCATION:
DESCRIPTION:  Besuchskreis Wegen Lockdown abgesagt.
END:VEVENT
END:VCALENDAR
